BEGIN:VCALENDAR
VERSION:2.0
PRODID:-//City Walk BHAM - ECPv6.15.20//NONSGML v1.0//EN
CALSCALE:GREGORIAN
METHOD:PUBLISH
X-WR-CALNAME:City Walk BHAM
X-ORIGINAL-URL:https://citywalkbham.com
X-WR-CALDESC:Events for City Walk BHAM
REFRESH-INTERVAL;VALUE=DURATION:PT1H
X-Robots-Tag:noindex
X-PUBLISHED-TTL:PT1H
BEGIN:VTIMEZONE
TZID:America/Chicago
BEGIN:DAYLIGHT
TZOFFSETFROM:-0600
TZOFFSETTO:-0500
TZNAME:CDT
DTSTART:20250309T080000
END:DAYLIGHT
BEGIN:STANDARD
TZOFFSETFROM:-0500
TZOFFSETTO:-0600
TZNAME:CST
DTSTART:20251102T070000
END:STANDARD
BEGIN:DAYLIGHT
TZOFFSETFROM:-0600
TZOFFSETTO:-0500
TZNAME:CDT
DTSTART:20260308T080000
END:DAYLIGHT
BEGIN:STANDARD
TZOFFSETFROM:-0500
TZOFFSETTO:-0600
TZNAME:CST
DTSTART:20261101T070000
END:STANDARD
BEGIN:DAYLIGHT
TZOFFSETFROM:-0600
TZOFFSETTO:-0500
TZNAME:CDT
DTSTART:20270314T080000
END:DAYLIGHT
BEGIN:STANDARD
TZOFFSETFROM:-0500
TZOFFSETTO:-0600
TZNAME:CST
DTSTART:20271107T070000
END:STANDARD
END:VTIMEZONE
BEGIN:VEVENT
DTSTART;TZID=America/Chicago:20260803T180000
DTEND;TZID=America/Chicago:20260803T200000
DTSTAMP:20260422T180543
CREATED:20260305T165036Z
LAST-MODIFIED:20260305T165036Z
UID:10029008-1785780000-1785787200@citywalkbham.com
SUMMARY:Northside Neighborhood Pickleball Night
DESCRIPTION:Join us at courts 1 and 2 from 6pm to 8pm for Northside Neighborhood Pickleball Night
URL:https://citywalkbham.com/event/northside-neighborhood-pickleball-night/2026-08-03/
CATEGORIES:Pickleball Courts
ATTACH;FMTTYPE=image/png:https://citywalkbham.com/wp-content/uploads/2026/03/Event-Social.png
END:VEVENT
BEGIN:VEVENT
DTSTART;TZID=America/Chicago:20260804T180000
DTEND;TZID=America/Chicago:20260804T200000
DTSTAMP:20260422T180543
CREATED:20241230T160408Z
LAST-MODIFIED:20250226T140133Z
UID:10007024-1785866400-1785873600@citywalkbham.com
SUMMARY:Magic City Futbol
DESCRIPTION:Join us at the blue block rec field for Magic City Futbol from 6:00 PM – 8:00 PM.
URL:https://citywalkbham.com/event/magic-city-futbol-2/2026-08-04/
ATTACH;FMTTYPE=image/png:https://citywalkbham.com/wp-content/uploads/2024/12/This-Weekend-at-City-Walk.png
END:VEVENT
BEGIN:VEVENT
DTSTART;VALUE=DATE:20260806
DTEND;VALUE=DATE:20260807
DTSTAMP:20260422T180543
CREATED:20260402T155342Z
LAST-MODIFIED:20260402T155809Z
UID:10032959-1785974400-1786060799@citywalkbham.com
SUMMARY:Pickleball Clinics
DESCRIPTION:Start your Pickleball journey here. This progression is designed to take you to the top of your game:101 – Basics201 – Develop shot consistency and accuracy301 – Learn to drive\, spin\, and power the ball401 – Implement winning court strategies \nLocation:\nPink Block Pickleball Courts 3 & 4 \nPickleball Clinics Schedule:\nThursdays: PB 101: 6 – 7 PM | PB 102: 6 – 7 PM | PB 401: 7 – 8 PM\nSaturdays: PB 101: 11 – 12 PM | PB 201: 10 – 11 PM \nClick Here for Times\, Dates and Registration
URL:https://citywalkbham.com/event/pickleball-clinics-2-2-4-2/2026-08-06/
CATEGORIES:Pickleball Courts
ATTACH;FMTTYPE=image/png:https://citywalkbham.com/wp-content/uploads/2025/09/Event-Social-2.png
END:VEVENT
BEGIN:VEVENT
DTSTART;TZID=America/Chicago:20260806T180000
DTEND;TZID=America/Chicago:20260806T200000
DTSTAMP:20260422T180543
CREATED:20241230T160408Z
LAST-MODIFIED:20250226T140133Z
UID:10007025-1786039200-1786046400@citywalkbham.com
SUMMARY:Magic City Futbol
DESCRIPTION:Join us at the blue block rec field for Magic City Futbol from 6:00 PM – 8:00 PM.
URL:https://citywalkbham.com/event/magic-city-futbol-2/2026-08-06/
ATTACH;FMTTYPE=image/png:https://citywalkbham.com/wp-content/uploads/2024/12/This-Weekend-at-City-Walk.png
END:VEVENT
BEGIN:VEVENT
DTSTART;VALUE=DATE:20260808
DTEND;VALUE=DATE:20260809
DTSTAMP:20260422T180543
CREATED:20260402T155342Z
LAST-MODIFIED:20260402T155809Z
UID:10032960-1786147200-1786233599@citywalkbham.com
SUMMARY:Pickleball Clinics
DESCRIPTION:Start your Pickleball journey here. This progression is designed to take you to the top of your game:101 – Basics201 – Develop shot consistency and accuracy301 – Learn to drive\, spin\, and power the ball401 – Implement winning court strategies \nLocation:\nPink Block Pickleball Courts 3 & 4 \nPickleball Clinics Schedule:\nThursdays: PB 101: 6 – 7 PM | PB 102: 6 – 7 PM | PB 401: 7 – 8 PM\nSaturdays: PB 101: 11 – 12 PM | PB 201: 10 – 11 PM \nClick Here for Times\, Dates and Registration
URL:https://citywalkbham.com/event/pickleball-clinics-2-2-4-2/2026-08-08/
CATEGORIES:Pickleball Courts
ATTACH;FMTTYPE=image/png:https://citywalkbham.com/wp-content/uploads/2025/09/Event-Social-2.png
END:VEVENT
END:VCALENDAR