BEGIN:VCALENDAR
VERSION:2.0
PRODID:-//City Walk BHAM - ECPv6.15.20//NONSGML v1.0//EN
CALSCALE:GREGORIAN
METHOD:PUBLISH
X-ORIGINAL-URL:https://citywalkbham.com
X-WR-CALDESC:Events for City Walk BHAM
REFRESH-INTERVAL;VALUE=DURATION:PT1H
X-Robots-Tag:noindex
X-PUBLISHED-TTL:PT1H
BEGIN:VTIMEZONE
TZID:America/Chicago
BEGIN:DAYLIGHT
TZOFFSETFROM:-0600
TZOFFSETTO:-0500
TZNAME:CDT
DTSTART:20250309T080000
END:DAYLIGHT
BEGIN:STANDARD
TZOFFSETFROM:-0500
TZOFFSETTO:-0600
TZNAME:CST
DTSTART:20251102T070000
END:STANDARD
BEGIN:DAYLIGHT
TZOFFSETFROM:-0600
TZOFFSETTO:-0500
TZNAME:CDT
DTSTART:20260308T080000
END:DAYLIGHT
BEGIN:STANDARD
TZOFFSETFROM:-0500
TZOFFSETTO:-0600
TZNAME:CST
DTSTART:20261101T070000
END:STANDARD
BEGIN:DAYLIGHT
TZOFFSETFROM:-0600
TZOFFSETTO:-0500
TZNAME:CDT
DTSTART:20270314T080000
END:DAYLIGHT
BEGIN:STANDARD
TZOFFSETFROM:-0500
TZOFFSETTO:-0600
TZNAME:CST
DTSTART:20271107T070000
END:STANDARD
END:VTIMEZONE
BEGIN:VEVENT
DTSTART;TZID=America/Chicago:20260331T123000
DTEND;TZID=America/Chicago:20260331T133000
DTSTAMP:20260420T075003
CREATED:20260306T162746Z
LAST-MODIFIED:20260330T184335Z
UID:10033442-1774960200-1774963800@citywalkbham.com
SUMMARY:FISE Press Conference
DESCRIPTION:Join us at the Green Block for the FISE press conference at City Walk
URL:https://citywalkbham.com/event/fise-press-conference/
CATEGORIES:Amphitheater
ATTACH;FMTTYPE=image/png:https://citywalkbham.com/wp-content/uploads/2026/03/City-Walk-Bham-FISE-Press-Conference.png
END:VEVENT
BEGIN:VEVENT
DTSTART;TZID=America/Chicago:20260404T123000
DTEND;TZID=America/Chicago:20260404T133000
DTSTAMP:20260420T075003
CREATED:20260402T183011Z
LAST-MODIFIED:20260402T183011Z
UID:10034172-1775305800-1775309400@citywalkbham.com
SUMMARY:FISE Press Conference
DESCRIPTION:Join us at the Green Block for the FISE press conference at City Walk
URL:https://citywalkbham.com/event/fise-press-conference-2/
CATEGORIES:Amphitheater
ATTACH;FMTTYPE=image/png:https://citywalkbham.com/wp-content/uploads/2026/03/City-Walk-Bham-FISE-Press-Conference.png
END:VEVENT
BEGIN:VEVENT
DTSTART;TZID=America/Chicago:20260425T070000
DTEND;TZID=America/Chicago:20260425T130000
DTSTAMP:20260420T075003
CREATED:20260402T200250Z
LAST-MODIFIED:20260402T200250Z
UID:10034244-1777100400-1777122000@citywalkbham.com
SUMMARY:End Addiction Birmingham Walk
DESCRIPTION:Join us at the Green Block Amphitheater from 7:00 AM to 1:00 PM for the 10TH Annual End Addiction BHAM Walk\npresented by END ADDICTION BHAM.
URL:https://citywalkbham.com/event/end-addiction-birmingham-walk/
CATEGORIES:Amphitheater
ATTACH;FMTTYPE=image/jpeg:https://citywalkbham.com/wp-content/uploads/2026/04/End-Addiction-Birmingham-Walk.jpg
END:VEVENT
END:VCALENDAR